BEGIN:VCALENDAR
CALSCALE:GREGORIAN
PRODID:-//Apple Inc.//macOS 15.6.1//EN
VERSION:2.0
BEGIN:VTIMEZONE
TZID:Europe/Madrid
BEGIN:DAYLIGHT
DTSTART:19810329T020000
RRULE:FREQ=YEARLY;BYMONTH=3;BYDAY=-1SU
TZNAME:CEST
TZOFFSETFROM:+0100
TZOFFSETTO:+0200
END:DAYLIGHT
BEGIN:STANDARD
DTSTART:19961027T030000
RRULE:FREQ=YEARLY;BYMONTH=10;BYDAY=-1SU
TZNAME:CET
TZOFFSETFROM:+0200
TZOFFSETTO:+0100
END:STANDARD
END:VTIMEZONE
BEGIN:VEVENT
CREATED:20251103T104115Z
DTEND;TZID=Europe/Madrid:20251119T150000
DTSTAMP:20251103T104117Z
DTSTART;TZID=Europe/Madrid:20251119T094500
LAST-MODIFIED:20251103T104115Z
LOCATION:Virtual Zone Madrid\nPlaza de Carlos Trias Bertran\, 3\, 28020 
 Madrid\, España
SEQUENCE:0
SUMMARY:Evento Dell Heroes
TRANSP:OPAQUE
UID:54156F28-2FB6-4CC9-9F9C-3BDD5EC63B13
X-APPLE-CREATOR-IDENTITY:com.apple.calendar
X-APPLE-CREATOR-TEAM-IDENTITY:0000000000
X-APPLE-STRUCTURED-LOCATION;VALUE=URI;X-APPLE-MAPKIT-HANDLE=CAESzwIIrk0Q
 7ebppoWf8MM6GhIJKK50iMk5REARZevPNBeODcAiggEKB0VzcGHDsWESAkVTGgZNYWRyaWQy
 Bk1hZHJpZDoFMjgwMjBCB1RldHXDoW5SHVBsYXphIGRlIENhcmxvcyBUcmlhcyBCZXJ0cmFu
 WgEzYiBQbGF6YSBkZSBDYXJsb3MgVHJpYXMgQmVydHJhbiwgM4oBDkN1YXRybyBDYW1pbm9z
 KhNWaXJ0dWFsIFpvbmUgTWFkcmlkMiBQbGF6YSBkZSBDYXJsb3MgVHJpYXMgQmVydHJhbiwg
 MzIMMjgwMjAgTWFkcmlkMgdFc3Bhw7FhOC9QAVpVCicI7ebppoWf8MM6EhIJKK50iMk5REAR
 ZevPNBeODcAYrk2QAwGYAwGiHykI7ebppoWf8MM6Gh0KE1ZpcnR1YWwgWm9uZSBNYWRyaWQQ
 ACoCZXNAAA==;X-APPLE-RADIUS=141.1748892015071;X-APPLE-REFERENCEFRAME=1;X
 -TITLE="Virtual Zone Madrid\nPlaza de Carlos Trias Bertran, 3, 28020 Mad
 rid, España":geo:40.451463,-3.694380
END:VEVENT
END:VCALENDAR
